BEGIN:VCALENDAR
VERSION:2.0
PRODID:-//RTCA - ECPv6.15.20//NONSGML v1.0//EN
CALSCALE:GREGORIAN
METHOD:PUBLISH
X-ORIGINAL-URL:https://restontc.org
X-WR-CALDESC:Events for RTCA
REFRESH-INTERVAL;VALUE=DURATION:PT1H
X-Robots-Tag:noindex
X-PUBLISHED-TTL:PT1H
BEGIN:VTIMEZONE
TZID:America/New_York
BEGIN:DAYLIGHT
TZOFFSETFROM:-0500
TZOFFSETTO:-0400
TZNAME:EDT
DTSTART:20240310T070000
END:DAYLIGHT
BEGIN:STANDARD
TZOFFSETFROM:-0400
TZOFFSETTO:-0500
TZNAME:EST
DTSTART:20241103T060000
END:STANDARD
BEGIN:DAYLIGHT
TZOFFSETFROM:-0500
TZOFFSETTO:-0400
TZNAME:EDT
DTSTART:20250309T070000
END:DAYLIGHT
BEGIN:STANDARD
TZOFFSETFROM:-0400
TZOFFSETTO:-0500
TZNAME:EST
DTSTART:20251102T060000
END:STANDARD
BEGIN:DAYLIGHT
TZOFFSETFROM:-0500
TZOFFSETTO:-0400
TZNAME:EDT
DTSTART:20260308T070000
END:DAYLIGHT
BEGIN:STANDARD
TZOFFSETFROM:-0400
TZOFFSETTO:-0500
TZNAME:EST
DTSTART:20261101T060000
END:STANDARD
END:VTIMEZONE
BEGIN:VEVENT
DTSTART;TZID=America/New_York:20250608T190000
DTEND;TZID=America/New_York:20250608T200000
DTSTAMP:20260420T193352
CREATED:20250513T142725Z
LAST-MODIFIED:20250608T193332Z
UID:5263-1749409200-1749412800@restontc.org
SUMMARY:Ellington Caravan
DESCRIPTION:Sunday\, June 8 Shenandoah Conservatory concert in the park canceled due to weather and impending tornado warning. \n\n\n\n\n\nShenandoah Conservatory’s Director of Jazz & Commercial Music and Associate Professor of Trombone Matt Niess leads an evening of music featuring some of Duke Ellington’s most beloved works. \n\n\n\nSunday Art in the Park with Shenandoah Conservatory is presented by Reston Community Center and Reston Town Center Association in partnership with Shenandoah Conservatory.
URL:https://restontc.org/event/ellington-caravan/
LOCATION:Reston Town Square Park\, 1880 Explorer St\, Reston\, VA\, 20190\, United States
CATEGORIES:Sunday Art in the Park with Shenandoah Conservatory
ATTACH;FMTTYPE=image/png:https://restontc.org/wp-content/uploads/2024/05/RCC_Sunday.png
END:VEVENT
BEGIN:VEVENT
DTSTART;TZID=America/New_York:20250615T190000
DTEND;TZID=America/New_York:20250615T200000
DTSTAMP:20260420T193352
CREATED:20250513T145505Z
LAST-MODIFIED:20250615T225826Z
UID:5265-1750014000-1750017600@restontc.org
SUMMARY:Luis Hernandez & the Mighty Little Big Band
DESCRIPTION:Canceled due to rain. \n\n\n\n\n\nShenandoah Conservatory’s Adjunct Assistant Professor of Jazz Saxophone Luis Hernandez performs Steve Williams’ original tunes and arrangements of jazz classics with some of D.C.’s greatest musicians. \n\n\n\nSunday Art in the Park with Shenandoah Conservatory is presented by Reston Community Center and Reston Town Center Association in partnership with Shenandoah Conservatory.
URL:https://restontc.org/event/luis-hernandez-the-mighty-little-big-band/
LOCATION:Reston Town Square Park\, 1880 Explorer St\, Reston\, VA\, 20190\, United States
CATEGORIES:Sunday Art in the Park with Shenandoah Conservatory
ATTACH;FMTTYPE=image/png:https://restontc.org/wp-content/uploads/2024/05/RCC_Sunday.png
END:VEVENT
BEGIN:VEVENT
DTSTART;TZID=America/New_York:20250622T190000
DTEND;TZID=America/New_York:20250622T200000
DTSTAMP:20260420T193352
CREATED:20250513T145946Z
LAST-MODIFIED:20250513T145947Z
UID:5267-1750618800-1750622400@restontc.org
SUMMARY:ClarVoice Trio
DESCRIPTION:Shenandoah Conservatory’s Professor of Clarinet Garrick Zoeter and soprano Mariana Mihai-Zoeter interpret romantic and inspiring works from around the world\, as well as uplifting jazz and classically inflected music\, guaranteed to lift your spirit. \n\n\n\nSunday Art in the Park with Shenandoah Conservatory is presented by Reston Community Center and Reston Town Center Association in partnership with Shenandoah Conservatory.
URL:https://restontc.org/event/clarvoice-trio-2/
LOCATION:Reston Town Square Park\, 1880 Explorer St\, Reston\, VA\, 20190\, United States
CATEGORIES:Sunday Art in the Park with Shenandoah Conservatory
ATTACH;FMTTYPE=image/png:https://restontc.org/wp-content/uploads/2024/05/RCC_Sunday.png
END:VEVENT
BEGIN:VEVENT
DTSTART;TZID=America/New_York:20250629T190000
DTEND;TZID=America/New_York:20250629T200000
DTSTAMP:20260420T193352
CREATED:20250513T150345Z
LAST-MODIFIED:20250513T150346Z
UID:5269-1751223600-1751227200@restontc.org
SUMMARY:The Art of the Harp: A Musical Showcase
DESCRIPTION:Shenandoah Conservatory’s Adjunct Associate Professor of Harp Lynnelle Ediger leads an inspiring program of music by the Shenandoah Conservatory harp studio and friends that pushes the boundaries of harp music\, showcasing the instrument’s incredible versatility from classical to rock. \n\n\n\nSunday Art in the Park with Shenandoah Conservatory is presented by Reston Community Center and Reston Town Center Association in partnership with Shenandoah Conservatory.
URL:https://restontc.org/event/the-art-of-the-harp-a-musical-showcase/
LOCATION:Reston Town Square Park\, 1880 Explorer St\, Reston\, VA\, 20190\, United States
CATEGORIES:Sunday Art in the Park with Shenandoah Conservatory
ATTACH;FMTTYPE=image/png:https://restontc.org/wp-content/uploads/2024/05/RCC_Sunday.png
END:VEVENT
END:VCALENDAR