BEGIN:VCALENDAR
VERSION:2.0
PRODID:-//RTCA - ECPv6.15.20//NONSGML v1.0//EN
CALSCALE:GREGORIAN
METHOD:PUBLISH
X-ORIGINAL-URL:https://restontc.org
X-WR-CALDESC:Events for RTCA
REFRESH-INTERVAL;VALUE=DURATION:PT1H
X-Robots-Tag:noindex
X-PUBLISHED-TTL:PT1H
BEGIN:VTIMEZONE
TZID:America/New_York
BEGIN:DAYLIGHT
TZOFFSETFROM:-0500
TZOFFSETTO:-0400
TZNAME:EDT
DTSTART:20240310T070000
END:DAYLIGHT
BEGIN:STANDARD
TZOFFSETFROM:-0400
TZOFFSETTO:-0500
TZNAME:EST
DTSTART:20241103T060000
END:STANDARD
BEGIN:DAYLIGHT
TZOFFSETFROM:-0500
TZOFFSETTO:-0400
TZNAME:EDT
DTSTART:20250309T070000
END:DAYLIGHT
BEGIN:STANDARD
TZOFFSETFROM:-0400
TZOFFSETTO:-0500
TZNAME:EST
DTSTART:20251102T060000
END:STANDARD
BEGIN:DAYLIGHT
TZOFFSETFROM:-0500
TZOFFSETTO:-0400
TZNAME:EDT
DTSTART:20260308T070000
END:DAYLIGHT
BEGIN:STANDARD
TZOFFSETFROM:-0400
TZOFFSETTO:-0500
TZNAME:EST
DTSTART:20261101T060000
END:STANDARD
END:VTIMEZONE
BEGIN:VEVENT
DTSTART;TZID=America/New_York:20250803T190000
DTEND;TZID=America/New_York:20250803T200000
DTSTAMP:20260420T165118
CREATED:20250513T152101Z
LAST-MODIFIED:20250513T152102Z
UID:5280-1754247600-1754251200@restontc.org
SUMMARY:Resonating Together: A Violin & Cello Duet
DESCRIPTION:Shenandoah Conservatory doctoral student and violinist Emily Ilyes and alumna and cellist Isabel Dimoff combine friendship and harmony for an evening of beautiful music. \n\n\n\nSunday Art in the Park with Shenandoah Conservatory is presented by Reston Community Center and Reston Town Center Association in partnership with Shenandoah Conservatory.
URL:https://restontc.org/event/resonating-together-a-violin-cello-duet/
LOCATION:Reston Town Square Park\, 1880 Explorer St\, Reston\, VA\, 20190\, United States
CATEGORIES:Sunday Art in the Park with Shenandoah Conservatory
ATTACH;FMTTYPE=image/png:https://restontc.org/wp-content/uploads/2024/05/RCC_Sunday.png
END:VEVENT
BEGIN:VEVENT
DTSTART;TZID=America/New_York:20250810T190000
DTEND;TZID=America/New_York:20250810T200000
DTSTAMP:20260420T165118
CREATED:20250513T152612Z
LAST-MODIFIED:20250513T152613Z
UID:5282-1754852400-1754856000@restontc.org
SUMMARY:Be Our Guest: A Disney Cabaret
DESCRIPTION:Shenandoah Conservatory’s senior musical theatre class presents a magical night of the classic Disney tunes you know and love. \n\n\n\nSunday Art in the Park with Shenandoah Conservatory is presented by Reston Community Center and Reston Town Center Association in partnership with Shenandoah Conservatory.
URL:https://restontc.org/event/be-our-guest-a-disney-cabaret/
LOCATION:Reston Town Square Park\, 1880 Explorer St\, Reston\, VA\, 20190\, United States
CATEGORIES:Sunday Art in the Park with Shenandoah Conservatory
ATTACH;FMTTYPE=image/png:https://restontc.org/wp-content/uploads/2024/05/RCC_Sunday.png
END:VEVENT
BEGIN:VEVENT
DTSTART;TZID=America/New_York:20250817T190000
DTEND;TZID=America/New_York:20250817T200000
DTSTAMP:20260420T165118
CREATED:20250513T152921Z
LAST-MODIFIED:20250817T223331Z
UID:5286-1755457200-1755460800@restontc.org
SUMMARY:Broadway Through the Ages
DESCRIPTION:Aug. 17 — Sunday Art in the Park canceled due to impending weather. \n\n\n\n\n\n\n\nShenandoah Conservatory’s senior musical theatre class presents a selection of your favorite Broadway tunes ranging from the 1950s to modern day. \n\n\n\nSunday Art in the Park with Shenandoah Conservatory is presented by Reston Community Center and Reston Town Center Association in partnership with Shenandoah Conservatory.
URL:https://restontc.org/event/broadway-through-the-ages-2/
LOCATION:Reston Town Square Park\, 1880 Explorer St\, Reston\, VA\, 20190\, United States
CATEGORIES:Sunday Art in the Park with Shenandoah Conservatory
ATTACH;FMTTYPE=image/png:https://restontc.org/wp-content/uploads/2024/05/RCC_Sunday.png
END:VEVENT
BEGIN:VEVENT
DTSTART;TZID=America/New_York:20250824T190000
DTEND;TZID=America/New_York:20250824T200000
DTSTAMP:20260420T165118
CREATED:20250513T153149Z
LAST-MODIFIED:20250513T153150Z
UID:5288-1756062000-1756065600@restontc.org
SUMMARY:R2DUO
DESCRIPTION:Shenandoah Conservatory’s Professor of Saxophone Timothy Roberts leads a program of saxophone and piano duets from three centuries that features what is most beautiful and entertaining about the instrument. \n\n\n\nSunday Art in the Park with Shenandoah Conservatory is presented by Reston Community Center and Reston Town Center Association in partnership with Shenandoah Conservatory.
URL:https://restontc.org/event/r2duo-2/
LOCATION:Reston Town Square Park\, 1880 Explorer St\, Reston\, VA\, 20190\, United States
CATEGORIES:Sunday Art in the Park with Shenandoah Conservatory
ATTACH;FMTTYPE=image/png:https://restontc.org/wp-content/uploads/2024/05/RCC_Sunday.png
END:VEVENT
END:VCALENDAR