BEGIN:VCALENDAR
VERSION:2.0
PRODID:-//RTCA - ECPv6.15.20//NONSGML v1.0//EN
CALSCALE:GREGORIAN
METHOD:PUBLISH
X-ORIGINAL-URL:https://restontc.org
X-WR-CALDESC:Events for RTCA
REFRESH-INTERVAL;VALUE=DURATION:PT1H
X-Robots-Tag:noindex
X-PUBLISHED-TTL:PT1H
BEGIN:VTIMEZONE
TZID:America/New_York
BEGIN:DAYLIGHT
TZOFFSETFROM:-0500
TZOFFSETTO:-0400
TZNAME:EDT
DTSTART:20240310T070000
END:DAYLIGHT
BEGIN:STANDARD
TZOFFSETFROM:-0400
TZOFFSETTO:-0500
TZNAME:EST
DTSTART:20241103T060000
END:STANDARD
BEGIN:DAYLIGHT
TZOFFSETFROM:-0500
TZOFFSETTO:-0400
TZNAME:EDT
DTSTART:20250309T070000
END:DAYLIGHT
BEGIN:STANDARD
TZOFFSETFROM:-0400
TZOFFSETTO:-0500
TZNAME:EST
DTSTART:20251102T060000
END:STANDARD
BEGIN:DAYLIGHT
TZOFFSETFROM:-0500
TZOFFSETTO:-0400
TZNAME:EDT
DTSTART:20260308T070000
END:DAYLIGHT
BEGIN:STANDARD
TZOFFSETFROM:-0400
TZOFFSETTO:-0500
TZNAME:EST
DTSTART:20261101T060000
END:STANDARD
END:VTIMEZONE
BEGIN:VEVENT
DTSTART;TZID=America/New_York:20250614T100000
DTEND;TZID=America/New_York:20250614T104500
DTSTAMP:20260420T174027
CREATED:20250514T205613Z
LAST-MODIFIED:20250515T002412Z
UID:5298-1749895200-1749897900@restontc.org
SUMMARY:Paul Bellanger: The Balloon Comic
DESCRIPTION:Green Room Sponsor\n\n\n\n\n\n\n\n\n\nFeaturing a unique blend of magic\, juggling and interactive balloon artistry\, creating unforgettable performances that leave lasting impressions. \n\n\n\nEnjoy silly clowns\, amazing magicians\, live music and interactive games that guarantee giggles. Bring your best dance moves and join the fun! \n\n\n\nThe Family Fun Entertainment Series is presented by Reston Community Center and Reston Town Center Association in partnership with MSE Productions\, Inc.
URL:https://restontc.org/event/paul-bellanger-the-balloon-comic/
LOCATION:Reston Town Square Park\, 1880 Explorer St\, Reston\, VA\, 20190\, United States
CATEGORIES:Family Fun Entertainment Series
ATTACH;FMTTYPE=image/png:https://restontc.org/wp-content/uploads/2024/05/RCC_family_fun.png
END:VEVENT
BEGIN:VEVENT
DTSTART;TZID=America/New_York:20250621T100000
DTEND;TZID=America/New_York:20250621T104500
DTSTAMP:20260420T174027
CREATED:20250514T210136Z
LAST-MODIFIED:20250515T002517Z
UID:5300-1750500000-1750502700@restontc.org
SUMMARY:Groovy Nate
DESCRIPTION:Green Room Sponsor\n\n\n\n\n\n\n\n\n\nFeaturing high-energy\, funky grooves that entertain and educate\, blending exotic musical instruments and comedy for a fun\, interactive experience. \n\n\n\nEnjoy silly clowns\, amazing magicians\, live music and interactive games that guarantee giggles. Bring your best dance moves and join the fun! \n\n\n\nThe Family Fun Entertainment Series is presented by Reston Community Center and Reston Town Center Association in partnership with MSE Productions\, Inc.
URL:https://restontc.org/event/groovy-nate-2/
LOCATION:Reston Town Square Park\, 1880 Explorer St\, Reston\, VA\, 20190\, United States
CATEGORIES:Family Fun Entertainment Series
ATTACH;FMTTYPE=image/png:https://restontc.org/wp-content/uploads/2024/05/RCC_family_fun.png
END:VEVENT
BEGIN:VEVENT
DTSTART;TZID=America/New_York:20250628T100000
DTEND;TZID=America/New_York:20250628T104500
DTSTAMP:20260420T174027
CREATED:20250514T210456Z
LAST-MODIFIED:20250515T002653Z
UID:5302-1751104800-1751107500@restontc.org
SUMMARY:Turley the Magician
DESCRIPTION:Green Room Sponsor\n\n\n\n\n\n\n\n\n\nKnown as Washington\, D.C.’s favorite family entertainer\, specializing in captivating magic shows for kids. \n\n\n\nEnjoy silly clowns\, amazing magicians\, live music and interactive games that guarantee giggles. Bring your best dance moves and join the fun! \n\n\n\nThe Family Fun Entertainment Series is presented by Reston Community Center and Reston Town Center Association in partnership with MSE Productions\, Inc.
URL:https://restontc.org/event/turley-the-magician-2/
LOCATION:Reston Town Square Park\, 1880 Explorer St\, Reston\, VA\, 20190\, United States
CATEGORIES:Family Fun Entertainment Series
ATTACH;FMTTYPE=image/png:https://restontc.org/wp-content/uploads/2024/05/RCC_family_fun.png
END:VEVENT
END:VCALENDAR