BEGIN:VCALENDAR
VERSION:2.0
PRODID:-//RTCA - ECPv6.15.20//NONSGML v1.0//EN
CALSCALE:GREGORIAN
METHOD:PUBLISH
X-ORIGINAL-URL:https://restontc.org
X-WR-CALDESC:Events for RTCA
REFRESH-INTERVAL;VALUE=DURATION:PT1H
X-Robots-Tag:noindex
X-PUBLISHED-TTL:PT1H
BEGIN:VTIMEZONE
TZID:America/New_York
BEGIN:DAYLIGHT
TZOFFSETFROM:-0500
TZOFFSETTO:-0400
TZNAME:EDT
DTSTART:20240310T070000
END:DAYLIGHT
BEGIN:STANDARD
TZOFFSETFROM:-0400
TZOFFSETTO:-0500
TZNAME:EST
DTSTART:20241103T060000
END:STANDARD
BEGIN:DAYLIGHT
TZOFFSETFROM:-0500
TZOFFSETTO:-0400
TZNAME:EDT
DTSTART:20250309T070000
END:DAYLIGHT
BEGIN:STANDARD
TZOFFSETFROM:-0400
TZOFFSETTO:-0500
TZNAME:EST
DTSTART:20251102T060000
END:STANDARD
BEGIN:DAYLIGHT
TZOFFSETFROM:-0500
TZOFFSETTO:-0400
TZNAME:EDT
DTSTART:20260308T070000
END:DAYLIGHT
BEGIN:STANDARD
TZOFFSETFROM:-0400
TZOFFSETTO:-0500
TZNAME:EST
DTSTART:20261101T060000
END:STANDARD
END:VTIMEZONE
BEGIN:VEVENT
DTSTART;TZID=America/New_York:20250705T100000
DTEND;TZID=America/New_York:20250705T104500
DTSTAMP:20260420T162255
CREATED:20250514T211003Z
LAST-MODIFIED:20250514T211214Z
UID:5305-1751709600-1751712300@restontc.org
SUMMARY:Zack Smith & The Mardi Gras Kings
DESCRIPTION:Green Room Sponsor\n\n\n\n\n\n\n\n\n\nFeaturing a unique blend of zydeco\, Cajun\, New Orleans jazz and funk in every show\, delivering lively and unforgettable performances. \n\n\n\nEnjoy silly clowns\, amazing magicians\, live music and interactive games that guarantee giggles. Bring your best dance moves and join the fun! \n\n\n\nThe Family Fun Entertainment Series is presented by Reston Community Center and Reston Town Center Association in partnership with MSE Productions\, Inc.
URL:https://restontc.org/event/zack-smith-the-mardi-gras-kings/
LOCATION:Reston Town Square Park\, 1880 Explorer St\, Reston\, VA\, 20190\, United States
CATEGORIES:Family Fun Entertainment Series
ATTACH;FMTTYPE=image/png:https://restontc.org/wp-content/uploads/2024/05/RCC_family_fun.png
END:VEVENT
BEGIN:VEVENT
DTSTART;TZID=America/New_York:20250712T100000
DTEND;TZID=America/New_York:20250712T104500
DTSTAMP:20260420T162255
CREATED:20250514T211607Z
LAST-MODIFIED:20250514T211608Z
UID:5308-1752314400-1752317100@restontc.org
SUMMARY:Lohr Family Antics
DESCRIPTION:Green Room Sponsor\n\n\n\n\n\n\n\n\n\nFast-paced and sidesplitting vaudeville shows filled with circus skills\, comedy and magic. \n\n\n\nEnjoy silly clowns\, amazing magicians\, live music and interactive games that guarantee giggles. Bring your best dance moves and join the fun! \n\n\n\nThe Family Fun Entertainment Series is presented by Reston Community Center and Reston Town Center Association in partnership with MSE Productions\, Inc.
URL:https://restontc.org/event/lohr-family-antics-2/
LOCATION:Reston Town Square Park\, 1880 Explorer St\, Reston\, VA\, 20190\, United States
CATEGORIES:Family Fun Entertainment Series
ATTACH;FMTTYPE=image/png:https://restontc.org/wp-content/uploads/2024/05/RCC_family_fun.png
END:VEVENT
BEGIN:VEVENT
DTSTART;TZID=America/New_York:20250719T100000
DTEND;TZID=America/New_York:20250719T104500
DTSTAMP:20260420T162255
CREATED:20250515T001318Z
LAST-MODIFIED:20250515T001319Z
UID:5314-1752919200-1752921900@restontc.org
SUMMARY:Rocknoceros
DESCRIPTION:Green Room Sponsor\n\n\n\n\n\n\n\n\n\nA children’s band known for their high-energy performances and catchy tunes that appeal to all ages. \n\n\n\nEnjoy silly clowns\, amazing magicians\, live music and interactive games that guarantee giggles. Bring your best dance moves and join the fun! \n\n\n\nThe Family Fun Entertainment Series is presented by Reston Community Center and Reston Town Center Association in partnership with MSE Productions\, Inc.
URL:https://restontc.org/event/rocknoceros-2/
LOCATION:Reston Town Square Park\, 1880 Explorer St\, Reston\, VA\, 20190\, United States
CATEGORIES:Family Fun Entertainment Series
ATTACH;FMTTYPE=image/png:https://restontc.org/wp-content/uploads/2024/05/RCC_family_fun.png
END:VEVENT
BEGIN:VEVENT
DTSTART;TZID=America/New_York:20250726T100000
DTEND;TZID=America/New_York:20250726T104500
DTSTAMP:20260420T162255
CREATED:20250515T001801Z
LAST-MODIFIED:20250515T001802Z
UID:5316-1753524000-1753526700@restontc.org
SUMMARY:The Unicycle Lady
DESCRIPTION:Green Room Sponsor\n\n\n\n\n\n\n\n\n\nCombining unicycle skills with comedy and juggling\, delivering entertaining performances suitable for all ages. \n\n\n\nEnjoy silly clowns\, amazing magicians\, live music and interactive games that guarantee giggles. Bring your best dance moves and join the fun! \n\n\n\nThe Family Fun Entertainment Series is presented by Reston Community Center and Reston Town Center Association in partnership with MSE Productions\, Inc.
URL:https://restontc.org/event/the-unicycle-lady/
LOCATION:Reston Town Square Park\, 1880 Explorer St\, Reston\, VA\, 20190\, United States
CATEGORIES:Family Fun Entertainment Series
ATTACH;FMTTYPE=image/png:https://restontc.org/wp-content/uploads/2024/05/RCC_family_fun.png
END:VEVENT
END:VCALENDAR