BEGIN:VCALENDAR
VERSION:2.0
PRODID:-//RTCA - ECPv6.15.20//NONSGML v1.0//EN
CALSCALE:GREGORIAN
METHOD:PUBLISH
X-WR-CALNAME:RTCA
X-ORIGINAL-URL:https://restontc.org
X-WR-CALDESC:Events for RTCA
REFRESH-INTERVAL;VALUE=DURATION:PT1H
X-Robots-Tag:noindex
X-PUBLISHED-TTL:PT1H
BEGIN:VTIMEZONE
TZID:America/New_York
BEGIN:DAYLIGHT
TZOFFSETFROM:-0500
TZOFFSETTO:-0400
TZNAME:EDT
DTSTART:20230312T070000
END:DAYLIGHT
BEGIN:STANDARD
TZOFFSETFROM:-0400
TZOFFSETTO:-0500
TZNAME:EST
DTSTART:20231105T060000
END:STANDARD
BEGIN:DAYLIGHT
TZOFFSETFROM:-0500
TZOFFSETTO:-0400
TZNAME:EDT
DTSTART:20240310T070000
END:DAYLIGHT
BEGIN:STANDARD
TZOFFSETFROM:-0400
TZOFFSETTO:-0500
TZNAME:EST
DTSTART:20241103T060000
END:STANDARD
BEGIN:DAYLIGHT
TZOFFSETFROM:-0500
TZOFFSETTO:-0400
TZNAME:EDT
DTSTART:20250309T070000
END:DAYLIGHT
BEGIN:STANDARD
TZOFFSETFROM:-0400
TZOFFSETTO:-0500
TZNAME:EST
DTSTART:20251102T060000
END:STANDARD
END:VTIMEZONE
BEGIN:VEVENT
DTSTART;TZID=America/New_York:20240803T193000
DTEND;TZID=America/New_York:20240803T220000
DTSTAMP:20260421T071107
CREATED:20240522T172603Z
LAST-MODIFIED:20240808T203722Z
UID:4323-1722713400-1722722400@restontc.org
SUMMARY:Sam Grow Band
DESCRIPTION:Billboard’s coveted “7 Country Acts To Watch”; “Love and Whiskey” #1 on iTunes’ Country Albums chart; 2020’s single “Song About You” 50 million streams and named one of Spotify’s “Best Country Songs”; current American Idol phenomenon Sela Campbell will open (7:30-8:00pm)\, Sam Grow Band will follow with a single\, 90-minute set \n\n\n\n\n\n\nPresented in partnership with \n\n\n\n\n\n\n\n\n\n\n\n\n\nArtist Hospitality Sponsor\n\n\n\n\n\n\n\n\n\nArtist Accommodations Sponsor
URL:https://restontc.org/event/sam-grow-band/
LOCATION:Pavilion\, 1825 Discovery St\, Reston\, VA\, 20190\, United States
CATEGORIES:Reston Concerts on the Town
ATTACH;FMTTYPE=image/png:https://restontc.org/wp-content/uploads/2024/05/RCOTT-logo_events_sip.png
END:VEVENT
BEGIN:VEVENT
DTSTART;TZID=America/New_York:20240810T193000
DTEND;TZID=America/New_York:20240810T213000
DTSTAMP:20260421T071107
CREATED:20240522T172656Z
LAST-MODIFIED:20240801T025358Z
UID:4325-1723318200-1723325400@restontc.org
SUMMARY:Three Sheets to the Wind
DESCRIPTION:Multiple Virginia “best band” recognitions as superstar of yacht rock sensation; will play straight through (no break) 7:30-9:30pm \n\n\n\n\n\n\nPresented in partnership with \n\n\n\n\n\n\n\n\n\n\n\n\n\nArtist Hospitality Sponsor\n\n\n\n\n\n\n\n\n\nArtist Accommodations Sponsor
URL:https://restontc.org/event/three-sheets-to-the-wind/
LOCATION:Pavilion\, 1825 Discovery St\, Reston\, VA\, 20190\, United States
CATEGORIES:Reston Concerts on the Town
ATTACH;FMTTYPE=image/png:https://restontc.org/wp-content/uploads/2024/05/RCOTT-logo_events_sip.png
END:VEVENT
BEGIN:VEVENT
DTSTART;TZID=America/New_York:20240817T193000
DTEND;TZID=America/New_York:20240817T220000
DTSTAMP:20260421T071107
CREATED:20240522T172749Z
LAST-MODIFIED:20240801T025507Z
UID:4327-1723923000-1723932000@restontc.org
SUMMARY:Right On Band
DESCRIPTION:Disco; played for the last four US Presidents and at Times Square New Year’s Eve. Will play straight through (no break) 7:30-10:00pm. \n\n\n\n\n\n\nPresented in partnership with \n\n\n\n\n\n\n\n\n\n\n\n\n\nArtist Hospitality Sponsor\n\n\n\n\n\n\n\n\n\nArtist Accommodations Sponsor
URL:https://restontc.org/event/right-on-band/
LOCATION:Pavilion\, 1825 Discovery St\, Reston\, VA\, 20190\, United States
CATEGORIES:Reston Concerts on the Town
ATTACH;FMTTYPE=image/png:https://restontc.org/wp-content/uploads/2024/05/RCOTT-logo_events_sip.png
END:VEVENT
BEGIN:VEVENT
DTSTART;TZID=America/New_York:20240824T193000
DTEND;TZID=America/New_York:20240824T213000
DTSTAMP:20260421T071107
CREATED:20240522T172858Z
LAST-MODIFIED:20240801T025133Z
UID:4329-1724527800-1724535000@restontc.org
SUMMARY:Magic!
DESCRIPTION:Reggae fusion; internationally renowned from Toronto with the #1 Billboard hit single “Rude\,” which has 1.4 billion Spotify downloads; DJ will open (7:30-8:00pm) and Magic! will play one 75-minute set (from +/- 8:15pm to +/-9:30pm) \n\n\n\n\n\n\nPresented in partnership with \n\n\n\n\n\n\n\n\n\n\n\n\n\nArtist Hospitality Sponsor\n\n\n\n\n\n\n\n\n\nArtist Accommodations Sponsor
URL:https://restontc.org/event/magic/
LOCATION:Pavilion\, 1825 Discovery St\, Reston\, VA\, 20190\, United States
CATEGORIES:Reston Concerts on the Town
ATTACH;FMTTYPE=image/png:https://restontc.org/wp-content/uploads/2024/05/RCOTT-logo_events_sip.png
END:VEVENT
END:VCALENDAR