BEGIN:VCALENDAR
VERSION:2.0
PRODID:-//RTCA - ECPv6.15.20//NONSGML v1.0//EN
CALSCALE:GREGORIAN
METHOD:PUBLISH
X-ORIGINAL-URL:https://restontc.org
X-WR-CALDESC:Events for RTCA
REFRESH-INTERVAL;VALUE=DURATION:PT1H
X-Robots-Tag:noindex
X-PUBLISHED-TTL:PT1H
BEGIN:VTIMEZONE
TZID:America/New_York
BEGIN:DAYLIGHT
TZOFFSETFROM:-0500
TZOFFSETTO:-0400
TZNAME:EDT
DTSTART:20230312T070000
END:DAYLIGHT
BEGIN:STANDARD
TZOFFSETFROM:-0400
TZOFFSETTO:-0500
TZNAME:EST
DTSTART:20231105T060000
END:STANDARD
BEGIN:DAYLIGHT
TZOFFSETFROM:-0500
TZOFFSETTO:-0400
TZNAME:EDT
DTSTART:20240310T070000
END:DAYLIGHT
BEGIN:STANDARD
TZOFFSETFROM:-0400
TZOFFSETTO:-0500
TZNAME:EST
DTSTART:20241103T060000
END:STANDARD
BEGIN:DAYLIGHT
TZOFFSETFROM:-0500
TZOFFSETTO:-0400
TZNAME:EDT
DTSTART:20250309T070000
END:DAYLIGHT
BEGIN:STANDARD
TZOFFSETFROM:-0400
TZOFFSETTO:-0500
TZNAME:EST
DTSTART:20251102T060000
END:STANDARD
END:VTIMEZONE
BEGIN:VEVENT
DTSTART;TZID=America/New_York:20241004T170000
DTEND;TZID=America/New_York:20241004T184500
DTSTAMP:20260421T035003
CREATED:20240522T174410Z
LAST-MODIFIED:20240818T193726Z
UID:4346-1728061200-1728067500@restontc.org
SUMMARY:Paul Carr Legacy Quartet
DESCRIPTION:Presented in partnership with\n\n\n\n\n\n\n\n\n\nHost Sponsor\n\n\n\n\n\n\n\n\n\nArtist Hospitality Sponsor\n\n\n\n\n\n\n\n\n\nPaul Carr\, saxophonist\, educator and curator has released 9 CD recordings under his name. Four of Paul’s recordings topped JazzWeek Charts. The Legacy Quartet will take you on a jazz journey with traditional and contemporary jazz\, plus original music from their latest CD. 
URL:https://restontc.org/event/paul-carr-legacy-quartet/
LOCATION:Reston Town Square Park\, 1880 Explorer St\, Reston\, VA\, 20190\, United States
CATEGORIES:Jazz Happy Hour with Darden and Friends
ATTACH;FMTTYPE=image/png:https://restontc.org/wp-content/uploads/2024/05/DardenHeader_events_sip.png
END:VEVENT
BEGIN:VEVENT
DTSTART;TZID=America/New_York:20241011T170000
DTEND;TZID=America/New_York:20241011T184500
DTSTAMP:20260421T035003
CREATED:20240522T175354Z
LAST-MODIFIED:20240818T193757Z
UID:4348-1728666000-1728672300@restontc.org
SUMMARY:George Mason Jazz Faculty
DESCRIPTION:Presented in partnership with\n\n\n\n\n\n\n\n\n\nHost Sponsor\n\n\n\n\n\n\n\n\n\nArtist Hospitality Sponsor\n\n\n\n\n\n\n\n\n\nTrumpeter Graham Breedlove leads a performance by the All-Star George Mason University Jazz faculty. With performances nationally (Blues Alley\, Center for the Arts\, Hylton Performing Arts Center) and internationally (Aalt Stadhaus in Luxembourg)\, these seasoned performers and educators pay tribute to America’s Indigenous Art-form\, JAZZ!  
URL:https://restontc.org/event/mason-jazz-faculty-all-stars/
LOCATION:Reston Town Square Park\, 1880 Explorer St\, Reston\, VA\, 20190\, United States
CATEGORIES:Jazz Happy Hour with Darden and Friends
ATTACH;FMTTYPE=image/png:https://restontc.org/wp-content/uploads/2024/05/DardenHeader_events_sip.png
END:VEVENT
BEGIN:VEVENT
DTSTART;TZID=America/New_York:20241018T170000
DTEND;TZID=America/New_York:20241018T184500
DTSTAMP:20260421T035003
CREATED:20240522T175437Z
LAST-MODIFIED:20240818T193820Z
UID:4350-1729270800-1729277100@restontc.org
SUMMARY:Darden Purcell
DESCRIPTION:Presented in partnership with\n\n\n\n\n\n\n\n\n\nHost Sponsor\n\n\n\n\n\n\n\n\n\nArtist Hospitality Sponsor\n\n\n\n\n\n\n\n\n\n“Falling in Love with Fall!” Vocalist Darden Purcell closes out the series with performances of Jazz standards\, classics from the Great American Songbook and Brazilian hits\, that celebrate the best season of the year\, FALL! 
URL:https://restontc.org/event/darden-purcell/
LOCATION:Reston Town Square Park\, 1880 Explorer St\, Reston\, VA\, 20190\, United States
CATEGORIES:Jazz Happy Hour with Darden and Friends
ATTACH;FMTTYPE=image/png:https://restontc.org/wp-content/uploads/2024/05/DardenHeader_events_sip.png
END:VEVENT
END:VCALENDAR